BEGIN:VCALENDAR
VERSION:2.0
PRODID:-//CES San Ignacio - ECPv6.15.20//NONSGML v1.0//EN
CALSCALE:GREGORIAN
METHOD:PUBLISH
X-WR-CALNAME:CES San Ignacio
X-ORIGINAL-URL:https://cessalamanca.es
X-WR-CALDESC:Eventos para CES San Ignacio
REFRESH-INTERVAL;VALUE=DURATION:PT1H
X-Robots-Tag:noindex
X-PUBLISHED-TTL:PT1H
BEGIN:VTIMEZONE
TZID:Europe/Madrid
BEGIN:DAYLIGHT
TZOFFSETFROM:+0100
TZOFFSETTO:+0200
TZNAME:CEST
DTSTART:20250330T010000
END:DAYLIGHT
BEGIN:STANDARD
TZOFFSETFROM:+0200
TZOFFSETTO:+0100
TZNAME:CET
DTSTART:20251026T010000
END:STANDARD
BEGIN:DAYLIGHT
TZOFFSETFROM:+0100
TZOFFSETTO:+0200
TZNAME:CEST
DTSTART:20260329T010000
END:DAYLIGHT
BEGIN:STANDARD
TZOFFSETFROM:+0200
TZOFFSETTO:+0100
TZNAME:CET
DTSTART:20261025T010000
END:STANDARD
BEGIN:DAYLIGHT
TZOFFSETFROM:+0100
TZOFFSETTO:+0200
TZNAME:CEST
DTSTART:20270328T010000
END:DAYLIGHT
BEGIN:STANDARD
TZOFFSETFROM:+0200
TZOFFSETTO:+0100
TZNAME:CET
DTSTART:20271031T010000
END:STANDARD
END:VTIMEZONE
BEGIN:VEVENT
DTSTART;TZID=Europe/Madrid:20260424T190000
DTEND;TZID=Europe/Madrid:20260426T150000
DTSTAMP:20260424T222126
CREATED:20250916T131342Z
LAST-MODIFIED:20250916T131754Z
UID:8654-1777057200-1777215600@cessalamanca.es
SUMMARY:Encuentro escuela de formadores 2026
DESCRIPTION:Encuentro de Formación Permanente Escuela de Formadores \nDirector: Adrián López Galindo\, sj\nformadores@jesuitas.es
URL:https://cessalamanca.es/event/encuentro-escuela-de-formadores-2026/
LOCATION:Centro de Espiritualidad San Ignacio\, Paseo San Antonio\, 14-40\, Salamanca\, Salamanca\, 37003\, Spain
CATEGORIES:Escuela de Formadores,Formación,Vida Religiosa
ATTACH;FMTTYPE=image/jpeg:https://cessalamanca.es/wp-content/uploads/2025/09/escuela-de-formadores-2.jpg
ORGANIZER;CN="Escuela de Formadores":MAILTO:Máster en Discernimiento Vocacional y Acompañamiento Espiritual
END:VEVENT
END:VCALENDAR